BEGIN:VCALENDAR
VERSION:2.0
PRODID:-//ChamberMaster//Event Calendar 2.0//EN
METHOD:PUBLISH
X-PUBLISHED-TTL:P3D
REFRESH-INTERVAL:P3D
CALSCALE:GREGORIAN
BEGIN:VEVENT
DTSTART:20250923T220000Z
DTEND:20250923T230000Z
X-MICROSOFT-CDO-ALLDAYEVENT:FALSE
SUMMARY:Arts Center Monthly Board Meeting
DESCRIPTION:The monthly board meeting for the Hartwell Arts Center will be held on the 4th Tuesday at 6 pm at the Arts Center.
X-ALT-DESC;FMTTYPE=text/html:The monthly board meeting for the Hartwell Arts Center will be held on the 4th Tuesday at 6 pm at the Arts Center.
LOCATION:Hartwell Arts Center
UID:e.3301.15937
SEQUENCE:3
DTSTAMP:20260420T061612Z
URL:https://www.hart-chamber.org/events/details/arts-center-monthly-board-meeting-09-23-2025-15937
END:VEVENT

END:VCALENDAR
