BEGIN:VCALENDAR
VERSION:2.0
PRODID:-//ChamberMaster//Event Calendar 2.0//EN
METHOD:PUBLISH
X-PUBLISHED-TTL:P3D
REFRESH-INTERVAL:P3D
CALSCALE:GREGORIAN
BEGIN:VEVENT
DTSTART:20250731T220000Z
DTEND:20250801T010000Z
X-MICROSOFT-CDO-ALLDAYEVENT:FALSE
SUMMARY:CANVAS & CLAY | Taylor Dubeau & Lynne Burke Opening Reception
DESCRIPTION:The Arts Center of Hartwell is proud to present a summer exhibit featuring the expressive oil paintings of Taylor Dubeau and the beautifully crafted pottery of Lynne Burke. This unique show will be on display from Thursday\, July 31 through August 30\, 2025.\n\n\n\nJoin us for the Opening Reception on Thursday\, July 31 at 6 PM\, where you'll have the chance to meet the artists and enjoy light refreshments generously served by Hartwell Main Street Volunteers. Free and open to the public come celebrate local art!
X-ALT-DESC;FMTTYPE=text/html:The Arts Center of Hartwell is proud to present a summer exhibit featuring the expressive oil paintings of Taylor Dubeau and the beautifully crafted pottery of Lynne Burke. This unique show will be on display from Thursday\, July 31 through August 30\, 2025.<br />\n<br />\nJoin us for the Opening Reception on Thursday\, July 31 at 6 PM\, where you&rsquo\;ll have the chance to meet the artists and enjoy light refreshments generously served by Hartwell Main Street Volunteers. Free and open to the public&mdash\;come celebrate local art!
LOCATION:Hartwell Art Center 338 E Howell St Hartwell GA 30643
UID:e.3301.16598
SEQUENCE:3
DTSTAMP:20260422T143511Z
URL:https://www.hart-chamber.org/events/details/canvas-clay-taylor-dubeau-lynne-burke-opening-reception-16598
END:VEVENT

END:VCALENDAR
