BEGIN:VCALENDAR
VERSION:2.0
PRODID:-//ChamberMaster//Event Calendar 2.0//EN
METHOD:PUBLISH
X-PUBLISHED-TTL:P3D
REFRESH-INTERVAL:P3D
CALSCALE:GREGORIAN
BEGIN:VEVENT
DTSTART:20261201T223000Z
DTEND:20261202T000000Z
X-MICROSOFT-CDO-ALLDAYEVENT:FALSE
SUMMARY:Chamber After Hours @ Mistletoe Market
DESCRIPTION:Celebrate the season at the annual Mistletoe Market After Hours at the Hartwell Arts Center. Enjoy festive cheer\, holiday shopping\, refreshments\, and door prizes while networking with local businesses and community members. Bring business cards for prize drawings and a chance to talk about your business. It's the perfect way to wrap up the year with connection\, creativity\, and holiday spirit.
X-ALT-DESC;FMTTYPE=text/html:<p data-end="514" data-start="167">Celebrate the season at the annual Mistletoe Market After Hours at the Hartwell Arts Center. Enjoy festive cheer\, holiday shopping\, refreshments\, and door prizes while networking with local businesses and community members. Bring business cards for prize drawings and a chance to talk about your business. It&rsquo\;s the perfect way to wrap up the year with connection\, creativity\, and holiday spirit.</p>\n
LOCATION:
UID:e.3301.16795
SEQUENCE:3
DTSTAMP:20260422T062722Z
URL:https://www.hart-chamber.org/events/details/chamber-after-hours-mistletoe-market-16795
END:VEVENT

END:VCALENDAR
