BEGIN:VCALENDAR
VERSION:2.0
PRODID:-//ChamberMaster//Event Calendar 2.0//EN
METHOD:PUBLISH
X-PUBLISHED-TTL:P3D
REFRESH-INTERVAL:P3D
CALSCALE:GREGORIAN
BEGIN:VEVENT
DTSTART:20251110T140000Z
DTEND:20251110T150000Z
X-MICROSOFT-CDO-ALLDAYEVENT:FALSE
SUMMARY:Chamber Board of Directors Meeting
DESCRIPTION:Monthly Chamber of Commerce Board of Directors meeting.  \n\n\n\nWe will be holding our annual board retreat to plan for 2026. We will hold our regular board meeting before the retreat at 9AM.\n\n\n\nContact:  Hart Co. Chamber of Commerce 706-376-8590
X-ALT-DESC;FMTTYPE=text/html:Monthly Chamber of Commerce Board of Directors meeting.&nbsp\;&nbsp\;<br />\n<br />\nWe will be holding our annual board retreat to plan for 2026. We will hold our regular board meeting before the retreat at 9AM.<br />\n<br />\nContact:&nbsp\;&nbsp\;Hart Co. Chamber of Commerce 706-376-8590
LOCATION:Adult Learning Center 110 Benson St. Hartwell Ga 30643
UID:e.3301.16277
SEQUENCE:3
DTSTAMP:20260421T102736Z
URL:https://www.hart-chamber.org/events/details/chamber-board-of-directors-meeting-11-11-2025-16277
END:VEVENT

END:VCALENDAR
