BEGIN:VCALENDAR
VERSION:2.0
PRODID:-//ChamberMaster//Event Calendar 2.0//EN
METHOD:PUBLISH
X-PUBLISHED-TTL:P3D
REFRESH-INTERVAL:P3D
CALSCALE:GREGORIAN
BEGIN:VEVENT
DTSTART:20250726T170000Z
DTEND:20250726T190000Z
X-MICROSOFT-CDO-ALLDAYEVENT:FALSE
SUMMARY:Christmas in July @ SHBC
DESCRIPTION:We are excited to bring back this fun event for our SHBC families! Mr & Mrs Santa will be on the stage for FREE pics! We will also have a cookie decorating station for the kids. Make plans to join us!
X-ALT-DESC;FMTTYPE=text/html:We are excited to bring back this fun event for our SHBC families! Mr &amp\; Mrs Santa will be on the stage for FREE pics! We will also have a cookie decorating station for the kids. Make plans to join us!
LOCATION:
UID:e.3301.16565
SEQUENCE:3
DTSTAMP:20260422T143257Z
URL:https://www.hart-chamber.org/events/details/christmas-in-july-shbc-16565
END:VEVENT

END:VCALENDAR
