BEGIN:VCALENDAR
VERSION:2.0
PRODID:-//ChamberMaster//Event Calendar 2.0//EN
METHOD:PUBLISH
X-PUBLISHED-TTL:P3D
REFRESH-INTERVAL:P3D
CALSCALE:GREGORIAN
BEGIN:VEVENT
DTSTART:20250923T203000Z
DTEND:20250923T213000Z
X-MICROSOFT-CDO-ALLDAYEVENT:FALSE
SUMMARY:Christmas Planning Committee Kick-off
DESCRIPTION:Monday\, September 23   4:30 PM   Hart County Chamber of Commerce\n\nIt's time to start planning Hartwell's Christmas Celebration! Our committee will be meeting for the first time this season to begin preparations for the annual Christmas Tree Lighting and Christmas Parade. We're looking for fresh ideas\, helping hands behind the scenes\, and enthusiastic volunteers to bring the magic to life both leading up to the event and on the day of.\n\nThis is a great chance to get involved and be part of a beloved community tradition. There's room for all kinds of participation\, so bring your ideas and join us as we kick off the season of Christmas in Hartwell!\n\n  Meeting begins at 4:30 PM\, one hour before our Ambassador Meeting.
X-ALT-DESC;FMTTYPE=text/html:<p data-end="169" data-start="57"><strong data-end="167" data-start="99">Monday\, September 23 &bull\; 4:30 PM &bull\; Hart County Chamber of Commerce</strong></p>\n\n<p data-end="545" data-start="171">It&rsquo\;s time to start planning Hartwell&rsquo\;s Christmas Celebration! Our committee will be meeting for the first time this season to begin preparations for the annual Christmas Tree Lighting and Christmas Parade. We&rsquo\;re looking for fresh ideas\, helping hands behind the scenes\, and enthusiastic volunteers to bring the magic to life&mdash\;both leading up to the event and on the day of.</p>\n\n<p data-end="762" data-start="547">This is a great chance to get involved and be part of a beloved community tradition. There&rsquo\;s room for all kinds of participation\, so bring your ideas and join us as we kick off the season of Christmas in Hartwell!</p>\n\n<p data-end="835" data-start="764">&#128197\; Meeting begins at 4:30 PM\, one hour before our Ambassador Meeting.</p>\n
LOCATION:Hart Chamber 10 S Carolina St Hartwell GA 30643
UID:e.3301.16659
SEQUENCE:3
DTSTAMP:20260420T061337Z
URL:https://www.hart-chamber.org/events/details/christmas-planning-committee-kick-off-16659
END:VEVENT

END:VCALENDAR
