BEGIN:VCALENDAR
VERSION:2.0
PRODID:-//ChamberMaster//Event Calendar 2.0//EN
METHOD:PUBLISH
X-PUBLISHED-TTL:P3D
REFRESH-INTERVAL:P3D
CALSCALE:GREGORIAN
BEGIN:VEVENT
DTSTART:20250726T130000Z
DTEND:20250726T180000Z
X-MICROSOFT-CDO-ALLDAYEVENT:FALSE
SUMMARY:Crafts & Vendor Festival for HCFD
DESCRIPTION:Crafts and Vendor Event Fundraiser   July 26\n\n\n\nLooking for a fun-filled Saturday the whole family can enjoy? Join us on Saturday\, July 26 from 9 a.m. to 2 p.m. at Hart County Fire Department Station 2 (7227 Reed Creek Highway\, Hartwell) for an exciting community fundraiser benefiting Station 2 (Reed Creek) and Station 9 (Rock Springs).\n\n\n\nEnjoy hot dogs with chips and a drink\, take your turn at the dunk tank\, and let the kids burn off energy on the inflatable slide. Don't miss the chance to pet a Highland cow and emu\, "touch the truck" with our fire crew\, and shop a great lineup of local craft vendors.\n\n\n\nIt's the perfect way to support your local fire stations while having a blast with your friends and neighbors. Admission is free and the fun is guaranteed!\n\n\n\nVendors welcome! Spots are just $30 or donate 10% of your sales. Set-up begins at 7:30 a.m.\n\n\n\nFor vendor info\, contact:\n\nDeborah Capps   706-244-5727\n\nRyan Ray   706-371-4576 (text only)\n\nDavid Howbert   706-436-4505 (text only)
X-ALT-DESC;FMTTYPE=text/html:Crafts and Vendor Event Fundraiser &ndash\; July 26<br />\n<br />\nLooking for a fun-filled Saturday the whole family can enjoy? Join us on Saturday\, July 26 from 9 a.m. to 2 p.m. at Hart County Fire Department Station 2 (7227 Reed Creek Highway\, Hartwell) for an exciting community fundraiser benefiting Station 2 (Reed Creek) and Station 9 (Rock Springs).<br />\n<br />\nEnjoy hot dogs with chips and a drink\, take your turn at the dunk tank\, and let the kids burn off energy on the inflatable slide. Don&rsquo\;t miss the chance to pet a Highland cow and emu\, &ldquo\;touch the truck&rdquo\; with our fire crew\, and shop a great lineup of local craft vendors.<br />\n<br />\nIt&rsquo\;s the perfect way to support your local fire stations while having a blast with your friends and neighbors. Admission is free and the fun is guaranteed!<br />\n<br />\nVendors welcome! Spots are just $30 or donate 10% of your sales. Set-up begins at 7:30 a.m.<br />\n<br />\nFor vendor info\, contact:<br />\nDeborah Capps &ndash\; 706-244-5727<br />\nRyan Ray &ndash\; 706-371-4576 (text only)<br />\nDavid Howbert &ndash\; 706-436-4505 (text only)
LOCATION:Hart County Fire Department Station 2 7227 Reed Creek Hwy Hartwell GA 30643
UID:e.3301.16577
SEQUENCE:3
DTSTAMP:20260422T142948Z
URL:https://www.hart-chamber.org/events/details/crafts-vendor-festival-for-hcfd-16577
END:VEVENT

END:VCALENDAR
