BEGIN:VCALENDAR
VERSION:2.0
PRODID:-//ChamberMaster//Event Calendar 2.0//EN
METHOD:PUBLISH
X-PUBLISHED-TTL:P3D
REFRESH-INTERVAL:P3D
CALSCALE:GREGORIAN
BEGIN:VEVENT
DTSTART:20241010T223000Z
DTEND:20241011T003000Z
X-MICROSOFT-CDO-ALLDAYEVENT:FALSE
SUMMARY:Hartwell Cornhole League (8 Weeks)
DESCRIPTION:Peach State Cornhole was born out of a desire to connect locally.  That's still the focus today and we have a feeling you'll find connection too.  Cornhole is the perfect sport for laid back\, weeknight fun at your favorite brewery or restaurant.  With three levels of competition\, there's an entry point for everyone with plenty of opportunities to raise the heat.  We are passionate about promoting local businesses around Georgia and collaborating to create awesome experiences for you.  Join us!\n\n\n\nCoed\, all men\, all women - it's up to you! Teams need a minimum of two players. There is no maximum number of players\, but we suggest 3-5. Players can sub in and out between games. All players must be listed on a team roster to compete. There are no age or gender requirements for team rosters.\n\n \n\nLeague Information & Registration
X-ALT-DESC;FMTTYPE=text/html:Peach State Cornhole was born out of a desire to connect locally.&nbsp\; That&rsquo\;s still the focus today and we have a feeling you&rsquo\;ll find connection too.&nbsp\; Cornhole is the perfect sport for laid back\, weeknight fun at your favorite brewery or restaurant.&nbsp\; With three levels of competition\, there&rsquo\;s an entry point for everyone with plenty of opportunities to raise the heat.&nbsp\; We are passionate about promoting local businesses around Georgia and collaborating to create awesome experiences for you.&nbsp\; Join us!<br />\n<br />\nCoed\, all men\, all women - it&#39\;s up to you! Teams need a minimum of two players. There is no maximum number of players\, but we suggest 3-5. Players can sub in and out between games. All players must be listed on a team roster to compete. There are no age or gender requirements for team rosters.<br />\n&nbsp\;\n<div class="uabb-divider-content uabbi-divider" style="box-sizing: border-box\; padding-right: 10px\; display: table-cell\; color: rgb(0\, 0\, 0)\; font-family: Montserrat\, sans-serif\; font-size: 17px\; text-align: center\;">\n<h4 class="uabb-divider-text" style="box-sizing: border-box\; line-height: 1.4\; color: rgb(0\, 31\, 79)\; margin: 0px\; font-size: 28px\; letter-spacing: 0px\; clear: both\; text-wrap: nowrap\; text-align: left\;"><a href="https://peachstatecornhole.com/locations/hartwell/">League Information &amp\; Registration</a></h4>\n<br />\n&nbsp\;</div>\n\n<div class="uabb-separator-line uabb-side-right" style="box-sizing: border-box\; display: table-cell\; vertical-align: middle\; width: 941.594px\; color: rgb(0\, 0\, 0)\; font-family: Montserrat\, sans-serif\; font-size: 17px\; text-align: center\;">&nbsp\;</div>\n<br />\n&nbsp\;
LOCATION:The Boathouse Grill 149 Hartwell Marina Rd Hartwell GA 30643
UID:e.3301.15730
SEQUENCE:3
DTSTAMP:20260425T215534Z
URL:https://www.hart-chamber.org/events/details/hartwell-cornhole-league-8-weeks-10-10-2024-15730
END:VEVENT

END:VCALENDAR
