BEGIN:VCALENDAR
VERSION:2.0
PRODID:-//ChamberMaster//Event Calendar 2.0//EN
METHOD:PUBLISH
X-PUBLISHED-TTL:P3D
REFRESH-INTERVAL:P3D
CALSCALE:GREGORIAN
BEGIN:VEVENT
DTSTART:20250731T220000Z
DTEND:20250801T020000Z
X-MICROSOFT-CDO-ALLDAYEVENT:FALSE
SUMMARY:Line Dancing with Aden Webb
DESCRIPTION:Doors open at 6:00 with practice line dancing\, food & drinks!
X-ALT-DESC;FMTTYPE=text/html:Doors open at 6:00 with practice line dancing\, food &amp\; drinks!
LOCATION:The Station of Hartwell 43 Railroad St Hartwell GA 30643
UID:e.3301.16578
SEQUENCE:3
DTSTAMP:20260422T142717Z
URL:https://www.hart-chamber.org/events/details/line-dancing-with-aden-webb-16578
END:VEVENT

END:VCALENDAR
