BEGIN:VCALENDAR
VERSION:2.0
PRODID:-//ChamberMaster//Event Calendar 2.0//EN
METHOD:PUBLISH
X-PUBLISHED-TTL:P3D
REFRESH-INTERVAL:P3D
CALSCALE:GREGORIAN
BEGIN:VEVENT
DTSTART:20250731T200000Z
DTEND:20250801T000000Z
X-MICROSOFT-CDO-ALLDAYEVENT:FALSE
SUMMARY:Meet the Teacher: HCMS & HCHS
DESCRIPTION:Middle and high school students can expect to meet their new teachers on July 31st. Grades 6-8 will be invited into the school between the hours of 4:00PM and 6:00PM. Incoming freshmen will gather in the Fine Arts Center at 6:00PM. Sophomores\, juniors\, and seniors will be welcomed into the building between the hours of 6:00PM and 8:00PM.
X-ALT-DESC;FMTTYPE=text/html:<strong>Middle and high school students</strong> can expect to meet their new teachers on July 31st. Grades 6-8 will be invited into the school between the hours of 4:00PM and 6:00PM. Incoming freshmen will gather in the Fine Arts Center at 6:00PM. Sophomores\, juniors\, and seniors will be welcomed into the building between the hours of 6:00PM and 8:00PM.&nbsp\;
LOCATION:HCMS & HCHS Various Locations
UID:e.3301.16567
SEQUENCE:3
DTSTAMP:20260422T143205Z
URL:https://www.hart-chamber.org/events/details/meet-the-teacher-hcms-hchs-16567
END:VEVENT

END:VCALENDAR
