BEGIN:VCALENDAR
VERSION:2.0
PRODID:-//ChamberMaster//Event Calendar 2.0//EN
METHOD:PUBLISH
X-PUBLISHED-TTL:P3D
REFRESH-INTERVAL:P3D
CALSCALE:GREGORIAN
BEGIN:VEVENT
DTSTART:20250213T170000Z
DTEND:20250213T200000Z
X-MICROSOFT-CDO-ALLDAYEVENT:FALSE
SUMMARY:Mobile office Hours with Rep. Mike Collins (GA-10)
DESCRIPTION:Congressional staff for Representative Mike Collins (GA-10) will be available to meet with residents of Hart County on Thursday\, February 13 from noon to 3 PM in the Hart County Library Meeting room. This is an excellent opportunity to express concerns\, share priorities\, and ask questions as a constituent.
X-ALT-DESC;FMTTYPE=text/html:Congressional staff for Representative Mike Collins (GA-10) will be available to meet with residents of Hart County on Thursday\, February 13 from noon to 3 PM in the Hart County Library Meeting room. This is an excellent opportunity to express concerns\, share priorities\, and ask questions as a constituent.
LOCATION:Hart County Library\, 150 Benson St. Hartwell GA 30643
UID:e.3301.16266
SEQUENCE:3
DTSTAMP:20260424T002852Z
URL:https://www.hart-chamber.org/events/details/mobile-office-hours-with-rep-mike-collins-ga-10-16266
END:VEVENT

END:VCALENDAR
