BEGIN:VCALENDAR
VERSION:2.0
PRODID:-//ChamberMaster//Event Calendar 2.0//EN
METHOD:PUBLISH
X-PUBLISHED-TTL:P3D
REFRESH-INTERVAL:P3D
CALSCALE:GREGORIAN
BEGIN:VEVENT
DTSTART:20250301T003000Z
DTEND:20250301T040000Z
X-MICROSOFT-CDO-ALLDAYEVENT:FALSE
SUMMARY:On The Border - The Ultimate Eagles Tribute
DESCRIPTION:On the Border - The Ultimate Eagles Tribute pulls it off as well as ANY great Tribute can\, treating fans to an authentic concert experience while journeying through The Eagles songbook. The band covers every big hit\, from ballads such as "Desperado" and "Lyin' Eyes" to rockin' hits such as "Life in the Fast Lane" and "Heartache Tonight" with such accuracy\, that listeners may permanently confuse "On the Border" with the real Eagles!  It's truly a masterful sound to witness for yourself.  Hitting major concert venues\, casinos & festivals around the country\, they created so much of a buzz\, that in 2015 AXSTV's hit show\, "The World's Greatest Tribute Bands" came calling for them to perform Live on TV at the famous "Whisky a Go Go" in LA.  \n\n\n\nWhat sets this EAGLES Tribute apart from ANY other\, is they were hand selected to emulate both the sound and overall feel each Eagles member.  They perform that particular Eagles member's vocals & musical parts.  Their passion\, showmanship and precise attention to replicating the details of the Eagles music\, has earned them critical acclaim\, name recognition and a very loyal following. Together\, they reproduce the recordings of the Eagles catalog with stunning guitar work\, multi lead vocalists and the 6 part harmonies have been said to capture the feeling of being at an actual Eagles concert!  \n\n \n\n"A good impersonation can be indistinguishable from the real thing\, which is why method actors are no longer allowed to play dictators.  Although the Eagles have encouraged the world to "Take It Easy" for more than four decades\, taking on the roles of the genteel Classic Rockers from Southern California is a tough task.  Not just any musician can nail the 5 part harmonies with the likes of Glenn Frey and Don Henley\, or pull off the talk-box guitar solos of Joe Walsh.  But with dedication\, 70's costuming\, a surplus of musical chops\, and a shelf full of papier-m ch  Grammys\, On the Border: The Ultimate Eagles Tribute pulls it off\, treating fans to an authentic concert experience while journeying through The Eagles' songbook. The band covers every hit\, from ballads such as "Desperado" and "Lyin' Eyes" to rave-ups such as "Life in the Fast Lane" and "Heartache Tonight" with such accuracy\, that listeners may permanently confuse On the Border with the real Eagles.  It's truly a masterful sound of witness for yourself." \n\n\n\nBUY TICKETS HERE
X-ALT-DESC;FMTTYPE=text/html:<p style="box-sizing: border-box\; margin: 0px 0px 10px\; padding: 0px\; border: 0px\; font-variant-numeric: inherit\; font-variant-east-asian: inherit\; font-variant-alternates: inherit\; font-variant-position: inherit\; font-variant-emoji: inherit\; font-stretch: inherit\; line-height: inherit\; font-family: Lato\; font-optical-sizing: inherit\; font-size-adjust: inherit\; font-kerning: inherit\; font-feature-settings: inherit\; font-variation-settings: inherit\; font-size: 14px\; vertical-align: baseline\;"><strong style="box-sizing: border-box\; margin: 0px\; padding: 0px\; border: 0px\; font-style: inherit\; font-variant: inherit\; font-stretch: inherit\; line-height: inherit\; font-family: inherit\; font-optical-sizing: inherit\; font-size-adjust: inherit\; font-kerning: inherit\; font-feature-settings: inherit\; font-variation-settings: inherit\; vertical-align: baseline\;">On the Border - The Ultimate Eagles Tribute</strong><strong style="box-sizing: border-box\; margin: 0px\; padding: 0px\; border: 0px\; font-style: inherit\; font-variant: inherit\; font-stretch: inherit\; line-height: inherit\; font-family: inherit\; font-optical-sizing: inherit\; font-size-adjust: inherit\; font-kerning: inherit\; font-feature-settings: inherit\; font-variation-settings: inherit\; vertical-align: baseline\;">&nbsp\;</strong>pulls it off as well as ANY great Tribute can\, treating fans to an authentic concert experience while journeying through The Eagles songbook. The band covers every big hit\, from ballads such as &ldquo\;Desperado&rdquo\; and &ldquo\;Lyin&rsquo\; Eyes&rdquo\; to rockin&rsquo\; hits such as &ldquo\;Life in the Fast Lane&rdquo\; and &ldquo\;Heartache Tonight&rdquo\; with such accuracy\, that listeners may permanently confuse &ldquo\;On the Border&rdquo\; with the real Eagles!&nbsp\;&nbsp\;It&rsquo\;s truly a masterful sound to witness for yourself.&nbsp\;&nbsp\;Hitting major concert venues\, casinos &amp\; festivals around the country\, they created so much of a buzz\, that in 2015 AXSTV&rsquo\;s hit show\, &ldquo\;The World&rsquo\;s Greatest Tribute Bands&rdquo\; came calling for them to perform Live on TV at the famous &ldquo\;Whisky a Go Go&rdquo\; in LA.&nbsp\;&nbsp\;</p>\n\n<p style="box-sizing: border-box\; margin: 0px 0px 10px\; padding: 0px\; border: 0px\; font-variant-numeric: inherit\; font-variant-east-asian: inherit\; font-variant-alternates: inherit\; font-variant-position: inherit\; font-variant-emoji: inherit\; font-stretch: inherit\; line-height: inherit\; font-family: Lato\; font-optical-sizing: inherit\; font-size-adjust: inherit\; font-kerning: inherit\; font-feature-settings: inherit\; font-variation-settings: inherit\; font-size: 14px\; vertical-align: baseline\;"><br style="box-sizing: border-box\;" />\nWhat sets this EAGLES Tribute apart from ANY other\, is they were hand selected to emulate both the sound and overall feel each Eagles member.&nbsp\;&nbsp\;They perform that particular Eagles member&rsquo\;s vocals &amp\; musical parts. &nbsp\;Their passion\, showmanship and precise attention to replicating the details of the Eagles music\,&nbsp\;has earned them critical acclaim\, name recognition and a very loyal following.&nbsp\;Together\, they reproduce the recordings of the Eagles catalog&nbsp\;with stunning guitar work\,&nbsp\;multi lead vocalists and the 6 part harmonies have been said&nbsp\;to capture the feeling&nbsp\;of being at an actual Eagles concert!&nbsp\;&nbsp\;</p>\n\n<p style="box-sizing: border-box\; margin: 0px 0px 10px\; padding: 0px\; border: 0px\; font-variant-numeric: inherit\; font-variant-east-asian: inherit\; font-variant-alternates: inherit\; font-variant-position: inherit\; font-variant-emoji: inherit\; font-stretch: inherit\; line-height: inherit\; font-family: Lato\; font-optical-sizing: inherit\; font-size-adjust: inherit\; font-kerning: inherit\; font-feature-settings: inherit\; font-variation-settings: inherit\; font-size: 14px\; vertical-align: baseline\;">&nbsp\;</p>\n\n<p style="box-sizing: border-box\; margin: 0px 0px 10px\; padding: 0px\; border: 0px\; font-variant-numeric: inherit\; font-variant-east-asian: inherit\; font-variant-alternates: inherit\; font-variant-position: inherit\; font-variant-emoji: inherit\; font-stretch: inherit\; line-height: inherit\; font-family: Lato\; font-optical-sizing: inherit\; font-size-adjust: inherit\; font-kerning: inherit\; font-feature-settings: inherit\; font-variation-settings: inherit\; font-size: 14px\; vertical-align: baseline\;"><em style="box-sizing: border-box\; margin: 0px\; padding: 0px\; border: 0px\; font-variant: inherit\; font-weight: inherit\; font-stretch: inherit\; line-height: inherit\; font-family: inherit\; font-optical-sizing: inherit\; font-size-adjust: inherit\; font-kerning: inherit\; font-feature-settings: inherit\; font-variation-settings: inherit\; vertical-align: baseline\;">&quot\;A good impersonation can be indistinguishable from the real thing\, which is why method actors are no longer allowed to play dictators.&nbsp\; Although the Eagles have encouraged the world to &ldquo\;Take It Easy&rdquo\; for more than four decades\, taking on the roles of the genteel Classic Rockers from Southern California is a tough task.&nbsp\; Not just any musician can nail the 5 part harmonies with the likes of Glenn Frey and Don Henley\, or pull off the talk-box guitar solos of Joe Walsh. &nbsp\;But with dedication\, 70&rsquo\;s costuming\, a surplus of musical chops\, and a shelf full of papier-m&acirc\;ch&eacute\; Grammys\,&nbsp\;On the Border: The Ultimate Eagles Tribute pulls it off\, treating fans to an authentic concert experience while journeying through The Eagles&rsquo\; songbook. The band covers every hit\, from ballads such as &ldquo\;Desperado&rdquo\; and &ldquo\;Lyin&rsquo\; Eyes&rdquo\; to rave-ups such as &ldquo\;Life in the Fast Lane&rdquo\; and &ldquo\;Heartache Tonight&rdquo\; with such accuracy\, that listeners may permanently confuse On the Border with the real Eagles. &nbsp\;It&rsquo\;s truly a masterful sound of witness for yourself.&rdquo\;&nbsp\;</em><br />\n<br />\n<a href="https://www.freshtix.com/events/on-the-border?fbclid=IwY2xjawIgjwVleHRuA2FlbQIxMAABHXLBnZX1zEx6VuqwW6WrGnWH4eAYXvh7pq4VO1-ORRYHJlqFpS9qXlnNkA_aem_GgLVj2FLnv1d_63OiKNPOQ"><span style="font-size:20px\;">BUY TICKETS HERE</span></a></p>\n
LOCATION:The Station of Hartwell 210 Railroad St Hartwell\, GA 30643
UID:e.3301.16289
SEQUENCE:3
DTSTAMP:20260423T231417Z
URL:https://www.hart-chamber.org/events/details/on-the-border-the-ultimate-eagles-tribute-16289
END:VEVENT

END:VCALENDAR
