BEGIN:VCALENDAR
VERSION:2.0
PRODID:-//ChamberMaster//Event Calendar 2.0//EN
METHOD:PUBLISH
X-PUBLISHED-TTL:P3D
REFRESH-INTERVAL:P3D
CALSCALE:GREGORIAN
BEGIN:VEVENT
DTSTART:20250528T170000Z
DTEND:20250528T180000Z
X-MICROSOFT-CDO-ALLDAYEVENT:FALSE
SUMMARY:Online Webinar: AI Content Marketing
DESCRIPTION:Artificial Intelligence (AI) is no longer the future of content marketing. \n\nThese innovative tools are actively reshaping our engagement and connection strategies with audiences. From brainstorming to execution\, AI tools like ChatGPT and Canva have transformed how entrepreneurs\, solopreneurs and small business owners create engaging content faster and more affordably. \n\n \n\nIn this webinar\, you will see how AI tools can help you create marketing content\, such as social media content\, email newsletters and graphics. \n\n \n\nHere's what you will learn:\n\n\n	Understand how AI can enhance your content marketing efforts\n	Learn about the top AI tools for writing\, editing and visual content creation\n	How to generate blog posts\, social media updates and emails using AI\n	Best practices and pitfalls when using AI\n\n\n \n\nLive attendees will receive the slide deck and a link to this webinar recording.
X-ALT-DESC;FMTTYPE=text/html:<p style="margin: 0px\; color: rgb(15\, 32\, 37)\; font-family: lato\, tahoma\, sans-serif\; font-size: 16px\; line-height: 24px\;">Artificial Intelligence (AI) is no longer the future of content marketing.&nbsp\;</p>\n\n<p style="margin: 0px\; color: rgb(15\, 32\, 37)\; font-family: lato\, tahoma\, sans-serif\; font-size: 16px\; line-height: 24px\;">These innovative tools are actively reshaping our engagement and connection strategies with audiences. From brainstorming to execution\, AI tools like ChatGPT and Canva have transformed how entrepreneurs\, solopreneurs and small business owners create engaging content faster and more affordably.&nbsp\;</p>\n\n<p style="margin: 0px\; color: rgb(15\, 32\, 37)\; font-family: lato\, tahoma\, sans-serif\; font-size: 16px\; line-height: 24px\;">&nbsp\;</p>\n\n<p style="margin: 0px\; color: rgb(15\, 32\, 37)\; font-family: lato\, tahoma\, sans-serif\; font-size: 16px\; line-height: 24px\;">In this webinar\,&nbsp\;you will see&nbsp\;how AI tools can help you create marketing content\, such as social media content\, email newsletters&nbsp\;and graphics.&nbsp\;</p>\n\n<p style="margin: 0px\; color: rgb(15\, 32\, 37)\; font-family: lato\, tahoma\, sans-serif\; font-size: 16px\; line-height: 24px\;">&nbsp\;</p>\n\n<p style="margin: 0px\; color: rgb(15\, 32\, 37)\; font-family: lato\, tahoma\, sans-serif\; font-size: 16px\; line-height: 24px\;">Here&#39\;s what you will learn:</p>\n\n<ul style="color: rgb(15\, 32\, 37)\; font-family: lato\, tahoma\, sans-serif\; font-size: 16px\; line-height: 24px\;">\n	<li>Understand how AI can enhance your content marketing efforts</li>\n	<li>Learn about the top AI tools for writing\, editing&nbsp\;and visual content creation</li>\n	<li>How to generate&nbsp\;blog posts\, social media updates and emails using AI</li>\n	<li>Best practices and pitfalls when using AI</li>\n</ul>\n\n<p style="margin: 0px\; color: rgb(15\, 32\, 37)\; font-family: lato\, tahoma\, sans-serif\; font-size: 16px\; line-height: 24px\;">&nbsp\;</p>\n\n<p style="margin: 0px\; color: rgb(15\, 32\, 37)\; font-family: lato\, tahoma\, sans-serif\; font-size: 16px\; line-height: 24px\;"><span style="font-weight: bold\;">Live attendees will receive the slide deck and a link to this webinar recording.</span></p>\n
LOCATION:Online Webinar
UID:e.3301.16535
SEQUENCE:3
DTSTAMP:20260425T023556Z
URL:https://www.hart-chamber.org/events/details/online-webinar-ai-content-marketing-16535
END:VEVENT

END:VCALENDAR
