BEGIN:VCALENDAR
VERSION:2.0
PRODID:-//ChamberMaster//Event Calendar 2.0//EN
METHOD:PUBLISH
X-PUBLISHED-TTL:P3D
REFRESH-INTERVAL:P3D
CALSCALE:GREGORIAN
BEGIN:VEVENT
DTSTART:20200627T220000Z
DTEND:20200628T014500Z
X-MICROSOFT-CDO-ALLDAYEVENT:FALSE
SUMMARY:Pre-4th Fireworks Celebration
DESCRIPTION:Join us for our annual Pre-4th Fireworks Celebration!  Bring a chair and find a spot for the big fireworks display.  There will be food vendors\, music\, and kids activities on site.  The fun starts at 6pm\, the fireworks display will start after dark (around 9:15ish)!  If you want to see the fireworks from your boat just head over to the dam around dusk.
X-ALT-DESC;FMTTYPE=text/html:Join us for our annual Pre-4th Fireworks Celebration!&nbsp\; Bring a chair and find a spot for the big fireworks display.&nbsp\; There will be food vendors\, music\, and kids activities on site.&nbsp\; The fun starts at 6pm\, the fireworks display will start after dark (around 9:15ish)!&nbsp\; If you want to see the fireworks from your boat just head over to the dam around dusk.&nbsp\;&nbsp\;
LOCATION:Big Oaks Recreation Area 5823 Dam Road Hartwell\, GA
UID:e.3301.6972
SEQUENCE:3
DTSTAMP:20260424T060504Z
URL:https://www.hart-chamber.org/events/details/pre-4th-fireworks-celebration-6972
END:VEVENT

END:VCALENDAR
