BEGIN:VCALENDAR
VERSION:2.0
PRODID:-//ChamberMaster//Event Calendar 2.0//EN
METHOD:PUBLISH
X-PUBLISHED-TTL:P3D
REFRESH-INTERVAL:P3D
CALSCALE:GREGORIAN
BEGIN:VEVENT
DTSTART:20250918T210000Z
DTEND:20250918T220000Z
X-MICROSOFT-CDO-ALLDAYEVENT:FALSE
SUMMARY:Q&A with the Artist: Mary Dilworth
DESCRIPTION:Join us for a member exclusive Q&A\n\nwith artist\n\nMary Dilworth.\n\n\n\nSeptember 18\, 2025\n\n5:00 PM
X-ALT-DESC;FMTTYPE=text/html:Join us for a member exclusive Q&amp\;A<br />\nwith artist<br />\nMary Dilworth.<br />\n<br />\nSeptember 18\, 2025<br />\n5:00 PM
LOCATION:Hartwell Arts Center
UID:e.3301.16652
SEQUENCE:3
DTSTAMP:20260420T062355Z
URL:https://www.hart-chamber.org/events/details/q-a-with-the-artist-mary-dilworth-16652
END:VEVENT

END:VCALENDAR
