BEGIN:VCALENDAR
VERSION:2.0
PRODID:-//ChamberMaster//Event Calendar 2.0//EN
METHOD:PUBLISH
X-PUBLISHED-TTL:P3D
REFRESH-INTERVAL:P3D
CALSCALE:GREGORIAN
BEGIN:VEVENT
DTSTART:20250510T150000Z
DTEND:20250510T190000Z
X-MICROSOFT-CDO-ALLDAYEVENT:FALSE
SUMMARY:Second Saturday Adoption Event
DESCRIPTION:Come by the Sanctuary (1364 Reed Creek Hwy\, Hartwell) between 11am and 3pm this coming Saturday to discuss adoptions\, volunteering\, fostering\, and so much more!\n\n \n\nOur cats and dogs hope you stop by!
X-ALT-DESC;FMTTYPE=text/html:<p style="box-sizing: border-box\; scrollbar-color: var(--overlay-bg) var(--translucent-white)\; color: rgb(66\, 62\, 55)\; font-family: &quot\;century gothic&quot\;\, calibri\, helvetica\, arial\, sans-serif\; font-size: 16px\; padding: 0px\; margin: 0px\;"><span style="box-sizing: border-box\; scrollbar-color: var(--overlay-bg) var(--translucent-white)\; font-size: 20px\;">Come by the Sanctuary (1364 Reed Creek Hwy\, Hartwell) between 11am and 3pm this coming Saturday to discuss adoptions\, volunteering\, fostering\, and so much more!</span></p>\n\n<p style="box-sizing: border-box\; scrollbar-color: var(--overlay-bg) var(--translucent-white)\; color: rgb(66\, 62\, 55)\; font-family: &quot\;century gothic&quot\;\, calibri\, helvetica\, arial\, sans-serif\; font-size: 16px\; padding: 0px\; margin: 0px\;">&nbsp\;</p>\n\n<p style="box-sizing: border-box\; scrollbar-color: var(--overlay-bg) var(--translucent-white)\; color: rgb(66\, 62\, 55)\; font-family: &quot\;century gothic&quot\;\, calibri\, helvetica\, arial\, sans-serif\; font-size: 16px\; padding: 0px\; margin: 0px\;"><span style="box-sizing: border-box\; scrollbar-color: var(--overlay-bg) var(--translucent-white)\; font-size: 20px\;">Our cats and dogs hope you stop by!</span></p>\n
LOCATION:
UID:e.3301.16308
SEQUENCE:3
DTSTAMP:20260424T105026Z
URL:https://www.hart-chamber.org/events/details/second-saturday-adoption-event-05-10-2025-16308
END:VEVENT

END:VCALENDAR
