BEGIN:VCALENDAR
VERSION:2.0
PRODID:-//ChamberMaster//Event Calendar 2.0//EN
METHOD:PUBLISH
X-PUBLISHED-TTL:P3D
REFRESH-INTERVAL:P3D
CALSCALE:GREGORIAN
BEGIN:VEVENT
DTSTART:20251123T013000Z
DTEND:20251123T013000Z
X-MICROSOFT-CDO-ALLDAYEVENT:FALSE
SUMMARY:Ultimate King of Pop- Michael Jackson Tribute
DESCRIPTION:
X-ALT-DESC;FMTTYPE=text/html:
LOCATION:The Station of Hartwell 43 Railroad St Hartwell\, GA 30643
UID:e.3301.16772
SEQUENCE:3
DTSTAMP:20260421T102609Z
URL:https://www.hart-chamber.org/events/details/ultimate-king-of-pop-michael-jackson-tribute-16772
END:VEVENT

END:VCALENDAR
